BEGIN:VCALENDAR
PRODID:-//kirchenweb.ch gmbh//veranstaltungsausgabe v2.0//DE
VERSION:2.0
METHOD:PUBLISH
BEGIN:VEVENT
DTSTART:20260531T080000Z
DTEND:20260531T093000Z
LOCATION:Gellertkirche\, Christoph Merian-Platz 5\, 4052 Basel
TRANSP:OPAQUE
SEQUENCE:0
UID:216764-veranstaltung@erk-bs.ch
DTSTAMP:20251008T180306Z
DESCRIPTION:Kontakt: Pfr. Dominik Reifler\n\nWeitere Infos:
  https://www.erk-bs.ch/veranstaltung/216764
SUMMARY:10 Uhr-Gottesdienst\, Konfirmation
PRIORITY:5
X-MICROSOFT-CDO-IMPORTANCE:1
CLASS:PUBLIC
END:VEVENT
END:VCALENDAR
