BEGIN:VCALENDAR
PRODID:-//kirchenweb.ch gmbh//veranstaltungsausgabe v2.0//DE
VERSION:2.0
METHOD:PUBLISH
BEGIN:VEVENT
DTSTART:20260618T130000Z
DTEND:20260618T140000Z
LOCATION:Generationenhaus Neubad\, Holeestrasse 119\, 4054 Basel
TRANSP:OPAQUE
SEQUENCE:0
UID:217058-veranstaltung@erk-bs.ch
DTSTAMP:20251015T084925Z
DESCRIPTION:Kontakt: Marianne Laubscher\n\nWeitere Infos:
  https://www.erk-bs.ch/veranstaltung/217058
SUMMARY:Generationenhaus Neubad: Gottesdienst
PRIORITY:5
X-MICROSOFT-CDO-IMPORTANCE:1
CLASS:PUBLIC
END:VEVENT
END:VCALENDAR
