BEGIN:VCALENDAR
PRODID:-//kirchenweb.ch gmbh//veranstaltungsausgabe v2.0//DE
VERSION:2.0
METHOD:PUBLISH
BEGIN:VEVENT
DTSTART:20260607T091500Z
DTEND:20260607T101500Z
LOCATION:Theodorskirche\, Theodorskirchplatz 5\, 4058 Basel
TRANSP:OPAQUE
SEQUENCE:0
UID:217161-veranstaltung@erk-bs.ch
DTSTAMP:20251016T125706Z
DESCRIPTION:Die Versammlung findet anschliessend an den Gottesdienst
  statt\, der um 10.00 Uhr beginnt.\n\nTraktandenliste\, Jahresbericht etc.
  folgen.\n\n\n\nKontakt: esther.mueller-kb@erk-bs.ch\n\nWeitere Infos:
  https://www.erk-bs.ch/veranstaltung/217161
SUMMARY:KIRCHGEMEINDEVERSAMMLUNG 2026
PRIORITY:5
X-MICROSOFT-CDO-IMPORTANCE:1
CLASS:PUBLIC
END:VEVENT
END:VCALENDAR
