BEGIN:VCALENDAR
PRODID:-//kirchenweb.ch gmbh//veranstaltungsausgabe v2.0//DE
VERSION:2.0
METHOD:PUBLISH
BEGIN:VEVENT
DTSTART:20261014T160000Z
DTEND:20261014T163000Z
LOCATION:Niklauskapelle\, Kreuzgang\, Münsterplatz 9\, 4051 Basel
TRANSP:OPAQUE
SEQUENCE:0
UID:217266-veranstaltung@erk-bs.ch
DTSTAMP:20260109T153824Z
DESCRIPTION:Caroline Schröder Field und Johannes Fankhauser (Klavier)
  stellen Hymnen aus dem Gesangbuch der United Methodist Church vor –
  gerne zum Mitsingen und ohne Anmeldung. \n\nCaroline Schröder Field and
  Johannes Fankhauser (piano) present hymns from the United Methodist
  Church – you are welcome to sing along\, without registration.\n\n\nIn
  der Niklauskapelle im Münsterkreuzgang\, jeweils von 18.00 bis 18.30 Uhr
 \nweitere Termine / further dates : \n\nKontakt: Pfrn. Caroline Schröder
  Field\n\nWeitere Infos: https://www.erk-bs.ch/veranstaltung/217266
SUMMARY:Singin' English
PRIORITY:5
X-MICROSOFT-CDO-IMPORTANCE:1
CLASS:PUBLIC
END:VEVENT
END:VCALENDAR
