BEGIN:VCALENDAR
PRODID:-//kirchenweb.ch gmbh//veranstaltungsausgabe v2.0//DE
VERSION:2.0
METHOD:PUBLISH
BEGIN:VEVENT
DTSTART:20261127T171500Z
DTEND:20261127T220000Z
LOCATION:Titus Kirche\, \,
TRANSP:OPAQUE
SEQUENCE:0
UID:217282-veranstaltung@erk-bs.ch
DTSTAMP:20251018T055147Z
DESCRIPTION:Kontakt: harald.matern@erk-bs.ch\n\nWeitere Infos:
  https://www.erk-bs.ch/veranstaltung/217282
SUMMARY:Männerkochgruppe
PRIORITY:5
X-MICROSOFT-CDO-IMPORTANCE:1
CLASS:PUBLIC
END:VEVENT
END:VCALENDAR
