BEGIN:VCALENDAR
PRODID:-//kirchenweb.ch gmbh//veranstaltungsausgabe v2.0//DE
VERSION:2.0
METHOD:PUBLISH
BEGIN:VEVENT
DTSTART:20260809T080000Z
DTEND:20260809T090000Z
LOCATION:Theodorskirche\, Theodorskirchplatz 5\, 4058 Basel
TRANSP:OPAQUE
SEQUENCE:0
UID:217362-veranstaltung@erk-bs.ch
DTSTAMP:20260421T105029Z
DESCRIPTION:Mit Taufe und Puppenspiel Rusajka sowie Teilete im Anschluss\n
 \nKontakt: Katharina Autenrieth-Fischlewitz\, Sabine Hellinger\n\nWeitere
  Infos: https://www.erk-bs.ch/veranstaltung/217362
SUMMARY:Gottesdienst für Klein & Gross mit Taufe\, Puppenspiel Rusajka
  und Teilete im Anschluss
PRIORITY:5
X-MICROSOFT-CDO-IMPORTANCE:1
CLASS:PUBLIC
END:VEVENT
END:VCALENDAR
