BEGIN:VCALENDAR
PRODID:-//kirchenweb.ch gmbh//veranstaltungsausgabe v2.0//DE
VERSION:2.0
METHOD:PUBLISH
BEGIN:VEVENT
DTSTART:20260531T080000Z
DTEND:20260531T090000Z
LOCATION:Theodorskirche\, Theodorskirchplatz 5\, 4058 Basel
TRANSP:OPAQUE
SEQUENCE:0
UID:217363-veranstaltung@erk-bs.ch
DTSTAMP:20260119T161448Z
DESCRIPTION:Kontakt: Dave Gut\n\nWeitere Infos:
  https://www.erk-bs.ch/veranstaltung/217363
SUMMARY:Konfirmation
PRIORITY:5
X-MICROSOFT-CDO-IMPORTANCE:1
CLASS:PUBLIC
END:VEVENT
END:VCALENDAR
