BEGIN:VCALENDAR
PRODID:-//kirchenweb.ch gmbh//veranstaltungsausgabe v2.0//DE
VERSION:2.0
METHOD:PUBLISH
BEGIN:VEVENT
DTSTART:20260521T100000Z
DTEND:20260521T113000Z
LOCATION:Kornfeldkirche\, Kornfeldstr. 51\, 4125 Riehen
TRANSP:OPAQUE
SEQUENCE:0
UID:217397-veranstaltung@erk-bs.ch
DTSTAMP:20251021T180152Z
DESCRIPTION:Der Mittagsclub steht allen interessierten älteren Menschen
  offen\, die gern in Gesellschaft essen möchten. Wir legen Wert auf
  Gastfreundschaft\, auf Offenheit und Toleranz. Im Mittagsclub können
  Kontakte geknüpft und Beziehungen gepflegt werden. Es wird auch
  gesungen\, viel gelacht und ab und zu gefeiert. \n\nEin Team von
  engagierten freiwilligen Helferinnen und Helfern bedient und umsorgt die
  Gäste mit Liebe\, Sorgfalt und viel Freude.\nDas Essen wird von der GAW
  (Gesellschaft für Arbeiten und Wohnen) frisch zubereitet und
  angeliefert. Einmal im Monat kocht das Team selber.\n\nMittagessen:
  Suppe\, Hauptgang\, Dessert\n		               Mineral / Kaffee\n		       
                 Fr. 18.-\nAuskunft & Anmeldung: Suzanne Schmidt
  (Mittagsclubleiterin)\n Mail: suzanne.schmidt@erk-bs.ch / 077 533 74 21\n
 \nKontakt: Suzanne Schmidt\n\nWeitere Infos:
  https://www.erk-bs.ch/veranstaltung/217397
SUMMARY:Mittagsclub Kornfeld
PRIORITY:5
X-MICROSOFT-CDO-IMPORTANCE:1
CLASS:PUBLIC
END:VEVENT
END:VCALENDAR
