BEGIN:VCALENDAR
PRODID:-//kirchenweb.ch gmbh//veranstaltungsausgabe v2.0//DE
VERSION:2.0
METHOD:PUBLISH
BEGIN:VEVENT
DTSTART:20260520T120000Z
DTEND:20260520T150000Z
LOCATION:Andreashaus\, Keltenweg 41\, 4125 Riehen
TRANSP:OPAQUE
SEQUENCE:0
UID:217445-veranstaltung@erk-bs.ch
DTSTAMP:20251021T181145Z
DESCRIPTION:‚Kunsch au ko jasse und spiile?‘ \nUnter diesem Titel
  laden einige Frauen zum Spielen ins Andreashaus ein. Vierzehntäglich an
  Mittwochnachmittagen können sich alle im Foyer des Andreashauses
  treffen\, die gerne Karten- und Brettspiele in geselliger \nRunde erleben
  möchten. \nJeweils Mittwoch Nachmittag von 14. 00 bis 17. 00 Uhr.\n\n\n
 \nKontakt: Suzanne Schmidt\n\nWeitere Infos:
  https://www.erk-bs.ch/veranstaltung/217445
SUMMARY:Spiel-Nachmittag für Erwachsene
PRIORITY:5
X-MICROSOFT-CDO-IMPORTANCE:1
CLASS:PUBLIC
END:VEVENT
END:VCALENDAR
