BEGIN:VCALENDAR
PRODID:-//kirchenweb.ch gmbh//veranstaltungsausgabe v2.0//DE
VERSION:2.0
METHOD:PUBLISH
BEGIN:VEVENT
DTSTART:20270122T170000Z
DTEND:20270122T225500Z
LOCATION:Münster\, Münsterplatz 9\, 4051 Basel
TRANSP:OPAQUE
SEQUENCE:0
UID:217458-veranstaltung@erk-bs.ch
DTSTAMP:20251022T064310Z
DESCRIPTION:Kontakt: Sandra Kuwartowski\n\nWeitere Infos:
  https://www.erk-bs.ch/veranstaltung/217458
SUMMARY:Museumsnacht
PRIORITY:5
X-MICROSOFT-CDO-IMPORTANCE:1
CLASS:PUBLIC
END:VEVENT
END:VCALENDAR
