BEGIN:VCALENDAR
PRODID:-//kirchenweb.ch gmbh//veranstaltungsausgabe v2.0//DE
VERSION:2.0
METHOD:PUBLISH
BEGIN:VEVENT
DTSTART:20260209T160000Z
DTEND:20260209T173000Z
LOCATION:Zwinglihaus\, Gundeldingerstrasse 370\, 4053 Basel
TRANSP:OPAQUE
SEQUENCE:0
UID:217459-veranstaltung@erk-bs.ch
DTSTAMP:20251107T160244Z
DESCRIPTION:Freiheit und Verantwortung\nEinleitung: Freiheit VON Zwang
  versus Freiheit ZUR Selbstbestimmung\nWas verstehen wir persönlich unter
  Freiheit? Welche Art von Freiheit ist uns besonders wichtig? Wo sind die
  Grenzen und (wie) ist Freiheit mit Verantwortung verknüpft?\n\nKontakt:
  Käthi Diethelm\n\nWeitere Infos:
  https://www.erk-bs.ch/veranstaltung/217459
SUMMARY:Leonhards-Club: Freiheit und Verantwortung (Gruppe
  Gesellschaftsfragen)
PRIORITY:5
X-MICROSOFT-CDO-IMPORTANCE:1
CLASS:PUBLIC
END:VEVENT
END:VCALENDAR
