BEGIN:VCALENDAR
PRODID:-//kirchenweb.ch gmbh//veranstaltungsausgabe v2.0//DE
VERSION:2.0
METHOD:PUBLISH
BEGIN:VEVENT
DTSTART:20260316T160000Z
DTEND:20260316T173000Z
LOCATION:Zwinglihaus\, Gundeldingerstrasse 370\, 4053 Basel
TRANSP:OPAQUE
SEQUENCE:0
UID:217460-veranstaltung@erk-bs.ch
DTSTAMP:20251107T155001Z
DESCRIPTION:Kompromisse\nBasis: Interessen und Bedürfnisse verstehen\,
  statt auf Positionen zu verharren. \nWir tauschen uns aus über
  Erfahrungen mit dem Erarbeiten von Kompromissen. Wie unterscheiden sich
  gesunde Kompromisse von faulen Kompromissen?\n\n\nKontakt: Käthi
  Diethelm\n\nWeitere Infos: https://www.erk-bs.ch/veranstaltung/217460
SUMMARY:Leonhards-Club: Kompromisse (Gruppe Gesellschaftsfragen)
PRIORITY:5
X-MICROSOFT-CDO-IMPORTANCE:1
CLASS:PUBLIC
END:VEVENT
END:VCALENDAR
