BEGIN:VCALENDAR
PRODID:-//kirchenweb.ch gmbh//veranstaltungsausgabe v2.0//DE
VERSION:2.0
METHOD:PUBLISH
BEGIN:VEVENT
DTSTART:20260420T150000Z
DTEND:20260420T163000Z
LOCATION:Zwinglihaus\, Gundeldingerstrasse 370\, 4053 Basel
TRANSP:OPAQUE
SEQUENCE:0
UID:217461-veranstaltung@erk-bs.ch
DTSTAMP:20251022T065852Z
DESCRIPTION:Kontakt: Käthi Diethelm\n\nWeitere Infos:
  https://www.erk-bs.ch/veranstaltung/217461
SUMMARY:Leonhards-Club: (Gruppe Gesellschaftsfragen)
PRIORITY:5
X-MICROSOFT-CDO-IMPORTANCE:1
CLASS:PUBLIC
END:VEVENT
END:VCALENDAR
