BEGIN:VCALENDAR
PRODID:-//kirchenweb.ch gmbh//veranstaltungsausgabe v2.0//DE
VERSION:2.0
METHOD:PUBLISH
BEGIN:VEVENT
DTSTART:20261207T160000Z
DTEND:20261207T173000Z
LOCATION:Zwinglihaus\, Gundeldingerstrasse 370\, 4053 Basel
TRANSP:OPAQUE
SEQUENCE:0
UID:217479-veranstaltung@erk-bs.ch
DTSTAMP:20251022T070230Z
DESCRIPTION:Kontakt: Clara Moser (clara.moser@outlook.com)\nKäthi
  Diethelm\n\nWeitere Infos: https://www.erk-bs.ch/veranstaltung/217479
SUMMARY:Leonhards-Club: (Gruppe Gespräche)
PRIORITY:5
X-MICROSOFT-CDO-IMPORTANCE:1
CLASS:PUBLIC
END:VEVENT
END:VCALENDAR
