BEGIN:VCALENDAR
PRODID:-//kirchenweb.ch gmbh//veranstaltungsausgabe v2.0//DE
VERSION:2.0
METHOD:PUBLISH
BEGIN:VEVENT
DTSTART:20260619T163000Z
DTEND:20260619T193000Z
LOCATION:Gellertkirche\, Christoph Merian-Platz 5\, 4052 Basel
TRANSP:OPAQUE
SEQUENCE:0
UID:217505-veranstaltung@erk-bs.ch
DTSTAMP:20260107T135216Z
DESCRIPTION:Grill 'n' chill für Jugendliche und junge Erwachsene\n\nMehr
  Infos folgen...\n\nKontakt: Philipp Zahn\n\nWeitere Infos:
  https://www.erk-bs.ch/veranstaltung/217505
SUMMARY:JET - Treffen der jungen Erwachsenen & ECHTANDERS
PRIORITY:5
X-MICROSOFT-CDO-IMPORTANCE:1
CLASS:PUBLIC
END:VEVENT
END:VCALENDAR
