BEGIN:VCALENDAR
PRODID:-//kirchenweb.ch gmbh//veranstaltungsausgabe v2.0//DE
VERSION:2.0
METHOD:PUBLISH
BEGIN:VEVENT
DTSTART:20260912T163000Z
DTEND:20260912T193000Z
LOCATION:Gellertkirche\, Christoph Merian-Platz 5\, 4052 Basel
TRANSP:OPAQUE
SEQUENCE:0
UID:217507-veranstaltung@erk-bs.ch
DTSTAMP:20251022T095607Z
DESCRIPTION:Mehr Infos folgen...\n\nKontakt: Philipp Zahn\n\nWeitere
  Infos: https://www.erk-bs.ch/veranstaltung/217507
SUMMARY:JET - Treffen der jungen Erwachsenen
PRIORITY:5
X-MICROSOFT-CDO-IMPORTANCE:1
CLASS:PUBLIC
END:VEVENT
END:VCALENDAR
