BEGIN:VCALENDAR
PRODID:-//kirchenweb.ch gmbh//veranstaltungsausgabe v2.0//DE
VERSION:2.0
METHOD:PUBLISH
BEGIN:VEVENT
DTSTART:20260129T070000Z
DTEND:20260129T150000Z
LOCATION:Andreashaus\, Keltenweg 41\, 4125 Riehen
TRANSP:OPAQUE
SEQUENCE:0
UID:217635-veranstaltung@erk-bs.ch
DTSTAMP:20251023T104945Z
DESCRIPTION:Kontakt: greg.bohny@erk-bs.ch\n\nWeitere Infos:
  https://www.erk-bs.ch/veranstaltung/217635
SUMMARY:Kleiderbörse im Andreashaus
PRIORITY:5
X-MICROSOFT-CDO-IMPORTANCE:1
CLASS:PUBLIC
END:VEVENT
END:VCALENDAR
