BEGIN:VCALENDAR
PRODID:-//kirchenweb.ch gmbh//veranstaltungsausgabe v2.0//DE
VERSION:2.0
METHOD:PUBLISH
BEGIN:VEVENT
DTSTART:20260205T170000Z
DTEND:20260205T181500Z
LOCATION:Andreashaus\, Keltenweg 41\, 4125 Riehen
TRANSP:OPAQUE
SEQUENCE:0
UID:217666-veranstaltung@erk-bs.ch
DTSTAMP:20251023T105601Z
DESCRIPTION:Alle sind herzlich eingeaden zum gemeinsamen Nachtessen\,
  Anmeldung nicht erforderlich. \n\n\nKosten: Erwachsene Fr. 8.-\nKinder ab
  4 Jahren: Fr. 3.-\n\nKontakt: greg.bohny@erk-bs.ch\n\nWeitere Infos:
  https://www.erk-bs.ch/veranstaltung/217666
SUMMARY:Abendessen
PRIORITY:5
X-MICROSOFT-CDO-IMPORTANCE:1
CLASS:PUBLIC
END:VEVENT
END:VCALENDAR
