BEGIN:VCALENDAR
PRODID:-//kirchenweb.ch gmbh//veranstaltungsausgabe v2.0//DE
VERSION:2.0
METHOD:PUBLISH
BEGIN:VEVENT
DTSTART:20260425T170000Z
DTEND:20260425T193000Z
LOCATION:Gellertkirche\, Christoph Merian-Platz 5\, 4052 Basel
TRANSP:OPAQUE
SEQUENCE:0
UID:217705-veranstaltung@erk-bs.ch
DTSTAMP:20260320T165106Z
DESCRIPTION:Der Gottesdienst von Jugendlichen für Jugendliche.\n\nEin
  grosses Mitarbeiterteam aus Jugendlichen lädt dich ein. Triff neue
  Leute\, eine aufregende Predikgt hören\, in den Worship eintauchen.
  Werde kreativ und geniesse im Anschluss die Gemeinschaft mit Verpflegung
  an der Bar sowie Games und Pingpong.\n\nKontakt: Lukas Martin\n\nWeitere
  Infos: https://www.erk-bs.ch/veranstaltung/217705
SUMMARY:Checkpoint
PRIORITY:5
X-MICROSOFT-CDO-IMPORTANCE:1
CLASS:PUBLIC
END:VEVENT
END:VCALENDAR
