BEGIN:VCALENDAR
PRODID:-//kirchenweb.ch gmbh//veranstaltungsausgabe v2.0//DE
VERSION:2.0
METHOD:PUBLISH
BEGIN:VEVENT
DTSTART:20260423T070000Z
DTEND:20260423T083000Z
LOCATION:Gellertkirche\, Christoph Merian-Platz 5\, 4052 Basel
TRANSP:OPAQUE
SEQUENCE:0
UID:217725-veranstaltung@erk-bs.ch
DTSTAMP:20260305T124027Z
DESCRIPTION:Wir studieren gemeinsam biblische Texte und ermutigen uns zur
  täglichen Christusnachfolge.\n\nDonnerstags\, ausser in den
  Schulferien\, 9-10.30 Uhr\, Raum Petrus.\n\nKontakt: Hans Ueli Reifler\n
 \nWeitere Infos: https://www.erk-bs.ch/veranstaltung/217725
SUMMARY:Pensioniertentreff für Männer
PRIORITY:5
X-MICROSOFT-CDO-IMPORTANCE:1
CLASS:PUBLIC
END:VEVENT
END:VCALENDAR
