BEGIN:VCALENDAR
PRODID:-//kirchenweb.ch gmbh//veranstaltungsausgabe v2.0//DE
VERSION:2.0
METHOD:PUBLISH
BEGIN:VEVENT
DTSTART:20261225T050000Z
DTEND:20261225T070000Z
LOCATION:St. Alban Tor\, \,
TRANSP:OPAQUE
SEQUENCE:0
UID:217732-veranstaltung@erk-bs.ch
DTSTAMP:20251120T145336Z
DESCRIPTION:Wir ziehen jedes Jahr am 25. Dezember singend durch die
  Quartiere der Münstergemeinde. Treffpunkt ist um 6.00 Uhr im Torbogen
  des St. Alban-Tors. Mitnehmen: Taschenlampe\, windgeschützte Kerze\,
  warme Kleidung.\nDamit unser vierstimmiger Gesang am Weihnachtsmorgen
  harmonisch klingt\, empfehlen wir die Probe am Montag\, 15. Dezember
  18:45 Uhr im Gemeindesaal des Bischofshofs.\nKontakt: Renata Hansemann -
  Martin\, Tel. 079 739 71 43\, renatasimon.ch@gmail.com\nJede Stimme ist
  herzlich willkommen\, auch von ausserhalb der Münstergemeinde!\n
 \nKontakt: Renata Hansemann - Martin\, Tel. 079 739 71 43\n\nWeitere
  Infos: https://www.erk-bs.ch/veranstaltung/217732
SUMMARY:Kurrende-Singen
PRIORITY:5
X-MICROSOFT-CDO-IMPORTANCE:1
CLASS:PUBLIC
END:VEVENT
END:VCALENDAR
