BEGIN:VCALENDAR
PRODID:-//kirchenweb.ch gmbh//veranstaltungsausgabe v2.0//DE
VERSION:2.0
METHOD:PUBLISH
BEGIN:VEVENT
DTSTART:20260906T080000Z
DTEND:20260906T130000Z
LOCATION:Treffpunkt wird noch bekannt gegeben.\,  \,
TRANSP:OPAQUE
SEQUENCE:0
UID:217758-veranstaltung@erk-bs.ch
DTSTAMP:20251028T073002Z
DESCRIPTION:Kontakt: Franziska Kuhn-Häderli\n\nWeitere Infos:
  https://www.erk-bs.ch/veranstaltung/217758
SUMMARY:Velo-Gottesdienst zur Schöpfungszeit
PRIORITY:5
X-MICROSOFT-CDO-IMPORTANCE:1
CLASS:PUBLIC
END:VEVENT
END:VCALENDAR
