BEGIN:VCALENDAR
PRODID:-//kirchenweb.ch gmbh//veranstaltungsausgabe v2.0//DE
VERSION:2.0
METHOD:PUBLISH
BEGIN:VEVENT
DTSTART:20260524T080000Z
DTEND:20260524T090000Z
LOCATION:Theodorskirche\, Theodorskirchplatz 5\, 4058 Basel
TRANSP:OPAQUE
SEQUENCE:0
UID:217769-veranstaltung@erk-bs.ch
DTSTAMP:20260324T133056Z
DESCRIPTION:Kontakt: Franziska Kuhn-Häderli\,  Susanne Amsler\n\nWeitere
  Infos: https://www.erk-bs.ch/veranstaltung/217769
SUMMARY:Pfingstgottesdienst
PRIORITY:5
X-MICROSOFT-CDO-IMPORTANCE:1
CLASS:PUBLIC
END:VEVENT
END:VCALENDAR
