BEGIN:VCALENDAR
PRODID:-//kirchenweb.ch gmbh//veranstaltungsausgabe v2.0//DE
VERSION:2.0
METHOD:PUBLISH
BEGIN:VEVENT
DTSTART:20260806T160000Z
DTEND:20260806T190000Z
LOCATION:Peterskirche\, Peterskirchplatz 7\, 4051 Basel
TRANSP:OPAQUE
SEQUENCE:0
UID:217778-veranstaltung@erk-bs.ch
DTSTAMP:20260121T101622Z
DESCRIPTION:Wir freuen uns auf einen gemütlichen Grillabend in stimmiger
  Kulisse bei der Peterskirche. Für Grillgut und alkoholfreie Getränke
  ist gesorgt. Vom Buffet bedienen wir uns mit dem\, was jede und jeder
  mitbringt – sei es etwas Salziges oder Süsses.Alkoholische Getränke
  können vor Ort gegen Bezahlung bezogen werden.\nDer Anlass findet bei
  jedem Wetter statt (bei schlechtem Wetter essen wir im Chor der
  Peterskirche).\n\nMohan(Tara) Sapkota\, Claudia Schulthess und Team\n\n
 \nKontakt: Claudia Schulthess\n\nWeitere Infos:
  https://www.erk-bs.ch/veranstaltung/217778
SUMMARY:Grillabend Peterskirche
PRIORITY:5
X-MICROSOFT-CDO-IMPORTANCE:1
CLASS:PUBLIC
END:VEVENT
END:VCALENDAR
