BEGIN:VCALENDAR
PRODID:-//kirchenweb.ch gmbh//veranstaltungsausgabe v2.0//DE
VERSION:2.0
METHOD:PUBLISH
BEGIN:VEVENT
DTSTART:20260614T080000Z
DTEND:20260614T090000Z
LOCATION:Theodorskirche\, Theodorskirchplatz 5\, 4058 Basel
TRANSP:OPAQUE
SEQUENCE:0
UID:217795-veranstaltung@erk-bs.ch
DTSTAMP:20260324T163301Z
DESCRIPTION:Kontakt: Dave Gut\n\nWeitere Infos:
  https://www.erk-bs.ch/veranstaltung/217795
SUMMARY:Gottesdienst mit Teilete und Kirchenchor Kleinbasel
PRIORITY:5
X-MICROSOFT-CDO-IMPORTANCE:1
CLASS:PUBLIC
END:VEVENT
END:VCALENDAR
