BEGIN:VCALENDAR
PRODID:-//kirchenweb.ch gmbh//veranstaltungsausgabe v2.0//DE
VERSION:2.0
METHOD:PUBLISH
BEGIN:VEVENT
DTSTART:20260829T170000Z
DTEND:20260829T213000Z
LOCATION:Gellertkirche\, Christoph Merian-Platz 5\, 4052 Basel
TRANSP:OPAQUE
SEQUENCE:0
UID:217807-veranstaltung@erk-bs.ch
DTSTAMP:20260113T103003Z
DESCRIPTION:Openair-Kino auf dem Kirchplatz.\n\nWeitere Infos folgen.\n
 \nKontakt: Daniel Dummermuth\n\nWeitere Infos:
  https://www.erk-bs.ch/veranstaltung/217807
SUMMARY:Openair-Kino
PRIORITY:5
X-MICROSOFT-CDO-IMPORTANCE:1
CLASS:PUBLIC
END:VEVENT
END:VCALENDAR
