BEGIN:VCALENDAR
PRODID:-//kirchenweb.ch gmbh//veranstaltungsausgabe v2.0//DE
VERSION:2.0
METHOD:PUBLISH
BEGIN:VEVENT
DTSTART:20260612T081500Z
DTEND:20260612T091500Z
LOCATION:Zum Lamm - Silberbergsaal\, Rebgasse 16\, 4058 Basel
TRANSP:OPAQUE
SEQUENCE:0
UID:217949-veranstaltung@erk-bs.ch
DTSTAMP:20251030T103642Z
DESCRIPTION:Kontakt: Katharina Autenrieth-Fischlewitz\n\nWeitere Infos:
  https://www.erk-bs.ch/veranstaltung/217949
SUMMARY:Gottesdienst
PRIORITY:5
X-MICROSOFT-CDO-IMPORTANCE:1
CLASS:PUBLIC
END:VEVENT
END:VCALENDAR
