BEGIN:VCALENDAR
PRODID:-//kirchenweb.ch gmbh//veranstaltungsausgabe v2.0//DE
VERSION:2.0
METHOD:PUBLISH
BEGIN:VEVENT
DTSTART:20261113T091500Z
DTEND:20261113T101500Z
LOCATION:Zum Lamm - Silberbergsaal\, Rebgasse 16\, 4058 Basel
TRANSP:OPAQUE
SEQUENCE:0
UID:217953-veranstaltung@erk-bs.ch
DTSTAMP:20251030T105808Z
DESCRIPTION:Kontakt: Katharina Autenrieth-Fischlewitz; Seelsorger José
  Oliveira\n\nWeitere Infos: https://www.erk-bs.ch/veranstaltung/217953
SUMMARY:Gedenkgottesdienst
PRIORITY:5
X-MICROSOFT-CDO-IMPORTANCE:1
CLASS:PUBLIC
END:VEVENT
END:VCALENDAR
