BEGIN:VCALENDAR
PRODID:-//kirchenweb.ch gmbh//veranstaltungsausgabe v2.0//DE
VERSION:2.0
METHOD:PUBLISH
BEGIN:VEVENT
DTSTART:20260428T101500Z
DTEND:20260428T110000Z
LOCATION:Peterskirche\, Peterskirchplatz 7\, 4051 Basel
TRANSP:OPAQUE
SEQUENCE:0
UID:217969-veranstaltung@erk-bs.ch
DTSTAMP:20251205T111453Z
DESCRIPTION:Gönnen Sie sich eine kleine Auszeit.\nTauchen Sie ein in eine
  Welt aus sanften Klängen und harmonischen Schwingungen. Die Meditation
  kombiniert Schwingungen und Töne verschiedener Klangschalen und
  Klanginstrumente zu einem harmonischen Klangteppich. Auf einer Matte
  liegend oder auf dem Stuhl sitzend lassen Sie die Klänge auf sich
  wirken\, kommen zur Ruhe\, entspannen\, lassen los und tanken neue
  Energie für den Alltag.\n\nMitbringen: bequeme Kleidung\, ev. warme
  Socken; Decken und Kissen stehen zur Verfügung.\nWer sich während der
  Meditation hinlegen möchte\, kann eine der bereitliegenden Matten
  benutzen (s’het\, solangs het).\n\nAnmeldung: eine Anmeldung ist nicht
  erforderlich\n\nKosten: freiwilliger Unkostenbeitrag\n\nLeitung: Claudia
  Schulthess und Claudia Schneider\n\nBei Fragen: Claudia Schulthess\,
  claudia.schulthess@erk-bs.ch oder Tel. 061 205 32 82\n\nKontakt: Claudia
  Schulthess\n\nWeitere Infos: https://www.erk-bs.ch/veranstaltung/217969
SUMMARY:Klangmeditation
PRIORITY:5
X-MICROSOFT-CDO-IMPORTANCE:1
CLASS:PUBLIC
END:VEVENT
END:VCALENDAR
