BEGIN:VCALENDAR
PRODID:-//kirchenweb.ch gmbh//veranstaltungsausgabe v2.0//DE
VERSION:2.0
METHOD:PUBLISH
BEGIN:VEVENT
DTSTART:20260503T080000Z
DTEND:20260503T093000Z
LOCATION:Gellertkirche\, Christoph Merian-Platz 5\, 4052 Basel
TRANSP:OPAQUE
SEQUENCE:0
UID:218037-veranstaltung@erk-bs.ch
DTSTAMP:20251031T114928Z
DESCRIPTION:GEMEINSAM MIT MENSCHEN AUS UNTERSCHIEDLICHEN GENERATIONEN
  FEIERN\, GOTT BEGEGNEN UND GESTÄRKT WERDEN FÜR’S LEBEN: HERZLICH
  WILLKOMMEN IN UNSEREN GOTTESDIENSTEN!\n\nParallel dazu Kirche für
  Kinder in verschiedenen Altersstufen von 0-12 Jahren sowie Ready-X für
  Teenager bis 15 Jahre.\nIm Anschluss bietet das Bistro Raum für
  Begegnung. \n\nGellertkirche’s church service is interpreted into
  English every Sunday. You can stop by the interpreter booth before the
  service to pick up a headset.\n\nDie Predigten können als Audio-Dateien
  oder als gedruckte Version von unserer Predigtdatenbank heruntergeladen
  werden. \n\n\nKontakt: Pfr. Dominik Reifler\n\nWeitere Infos:
  https://www.erk-bs.ch/veranstaltung/218037
SUMMARY:10 Uhr-Gottesdienst
PRIORITY:5
X-MICROSOFT-CDO-IMPORTANCE:1
CLASS:PUBLIC
END:VEVENT
END:VCALENDAR
