BEGIN:VCALENDAR
PRODID:-//kirchenweb.ch gmbh//veranstaltungsausgabe v2.0//DE
VERSION:2.0
METHOD:PUBLISH
BEGIN:VEVENT
DTSTART:20261129T180700Z
DTEND:20261129T193000Z
LOCATION:Gellertkirche\, Christoph Merian-Platz 5\, 4052 Basel
TRANSP:OPAQUE
SEQUENCE:0
UID:218115-veranstaltung@erk-bs.ch
DTSTAMP:20260211T110438Z
DESCRIPTION:SONNTAGABENDS UM 19.07 UHR IN DER GELLERTKIRCHE BASEL\nWir
  feiern zeitgenössische Gottesdienste mit\n\n- verschiedenen
  Worship-Bands\n- lebensnaher Predigt (Mundart)\n- Interviews\n-
  Gesprächs- und Gebetsangeboten \n- Möglichkeit\, neue Leute kennen zu
  lernen\n- kleinem Imbissangebot und Getränken im Bistro Rundum nach
  Gottesdienstende\nWir feiern regelmässig Worshipgottesdienste mit mehr
  Zeit für Lobpreis\, Anbetung\, Gebet und kreativen Möglichkeiten\, Gott
  zu begegnen.\n\nMehr über unsere Werte begegnen - bestärken -
  beteiligen findest du auf unserer Webseite.\n\nWir freuen uns über
  deinen Besuch!\n\nDie Predigten können als Audio-Dateien oder als
  gedruckte Version von unserer Predigtdatenbank heruntergeladen werden.
  Unsere Gottesdienste werden regelmässig von Radio Life Channel
  ausgestrahlt.\n\nTAUFGOTTESDIENST FÜR ERWACHSENE (Indoor) \nWenn du zum
  Glauben an Jesus Christus gekommen bist und noch nicht getauft bist oder
  deinen Glauben in einer Tauferneuerung bekennen möchtest\, laden wir
  dich ein an der Tauf-Schulung  teilzunehmen\, (Termin ist noch offen). 
 \nBitte melde dich bei Pfarrer Dominik Reifler\,
  dominik.reifler@erk-bs.ch.\n\n\n\n\nKontakt: Philipp Zahn\n\nWeitere
  Infos: https://www.erk-bs.ch/veranstaltung/218115
SUMMARY:707-Abendgottesdienst mit Erwachsenentaufe
PRIORITY:5
X-MICROSOFT-CDO-IMPORTANCE:1
CLASS:PUBLIC
END:VEVENT
END:VCALENDAR
