BEGIN:VCALENDAR
PRODID:-//kirchenweb.ch gmbh//veranstaltungsausgabe v2.0//DE
VERSION:2.0
METHOD:PUBLISH
BEGIN:VEVENT
DTSTART:20260424T073000Z
DTEND:20260424T090000Z
LOCATION:Hofstube\, Bischofshof\, Rittergasse 1\, 4051 Basel
TRANSP:OPAQUE
SEQUENCE:0
UID:218126-veranstaltung@erk-bs.ch
DTSTAMP:20251031T141126Z
DESCRIPTION:Münster Mütter MüMü\, Gemeindesaal (ev. Hofstube)\,  
  Bibeltexte und Austausch\, Sophie Perret mit Sr. Marti Wyss\n\nKontakt:
  Sophie Perret\, Tel. 061 481 56 85\n\nWeitere Infos:
  https://www.erk-bs.ch/veranstaltung/218126
SUMMARY:MüMü (Frauen lesen die Bibel)
PRIORITY:5
X-MICROSOFT-CDO-IMPORTANCE:1
CLASS:PUBLIC
END:VEVENT
END:VCALENDAR
