BEGIN:VCALENDAR
PRODID:-//kirchenweb.ch gmbh//veranstaltungsausgabe v2.0//DE
VERSION:2.0
METHOD:PUBLISH
BEGIN:VEVENT
DTSTART:20260602T173000Z
DTEND:20260602T193000Z
LOCATION:Tituskirche\, \,
TRANSP:OPAQUE
SEQUENCE:0
UID:218150-veranstaltung@erk-bs.ch
DTSTAMP:20251125T142207Z
DESCRIPTION:Paul Seger ist ehemaliger Botschafter der Schweiz. Seine
  Laufbahn hat ihn in verschiedene Länder und Kulturen geführt. Katrin
  Schulze kommt mit ihm ins Gespräch über das Jahresthema von OFFLine
  "Empathie" Welche Rolle spielt Empathie im multikulturellen Umfeld. Wo
  hilft Empathie\, wo ist sie matchentscheidend und wo hat Empathie auch
  Grenzen.\n\nKontakt: Katrin Schulze\n\nWeitere Infos:
  https://www.erk-bs.ch/veranstaltung/218150
SUMMARY:OFFLine Gespräch mit einem Gast
PRIORITY:5
X-MICROSOFT-CDO-IMPORTANCE:1
CLASS:PUBLIC
END:VEVENT
END:VCALENDAR
