BEGIN:VCALENDAR
PRODID:-//kirchenweb.ch gmbh//veranstaltungsausgabe v2.0//DE
VERSION:2.0
METHOD:PUBLISH
BEGIN:VEVENT
DTSTART:20251111T143000Z
DTEND:20251111T150000Z
LOCATION:Kornfeldkirche\, Kornfeldstr. 51\, 4125 Riehe\, 4125 Riehen
TRANSP:OPAQUE
SEQUENCE:0
UID:218161-veranstaltung@erk-bs.ch
DTSTAMP:20251103T135159Z
DESCRIPTION:30 Minuten Spannung und Spass am Spielnachmittag im Café
  Kornfed. Eintritt frei\n\nKontakt: maya.frei@erk-bs.ch\n\nWeitere Infos:
  https://www.erk-bs.ch/veranstaltung/218161
SUMMARY:Zaubershow beim Spielnachmittag
PRIORITY:5
X-MICROSOFT-CDO-IMPORTANCE:1
CLASS:PUBLIC
END:VEVENT
END:VCALENDAR
