BEGIN:VCALENDAR
PRODID:-//kirchenweb.ch gmbh//veranstaltungsausgabe v2.0//DE
VERSION:2.0
METHOD:PUBLISH
BEGIN:VEVENT
DTSTART:20260426T150000Z
DTEND:20260426T160000Z
LOCATION:Kornfeldkirche\, Kornfeldstr. 51\, 4125 Riehe\, 4125 Riehen
TRANSP:OPAQUE
SEQUENCE:0
UID:218168-veranstaltung@erk-bs.ch
DTSTAMP:20260306T141553Z
DESCRIPTION:Kontakt: Maya Frei\n\nWeitere Infos:
  https://www.erk-bs.ch/veranstaltung/218168
SUMMARY:Radiance Jugendgottesdienst mit SD Maya Frei und Pfr. Silas
  Deutscher
PRIORITY:5
X-MICROSOFT-CDO-IMPORTANCE:1
CLASS:PUBLIC
END:VEVENT
END:VCALENDAR
