BEGIN:VCALENDAR
PRODID:-//kirchenweb.ch gmbh//veranstaltungsausgabe v2.0//DE
VERSION:2.0
METHOD:PUBLISH
BEGIN:VEVENT
DTSTART:20260917T084500Z
DTEND:20260917T094500Z
LOCATION:Alterszentrum Alban-Breite\, Zürcherstrasse 143\, 4052 Basel
TRANSP:OPAQUE
SEQUENCE:0
UID:218207-veranstaltung@erk-bs.ch
DTSTAMP:20251104T115212Z
DESCRIPTION:Der Gottesdienst richtet sich an Bewohnerinnen und Bewohner
  des Alterszentrum Alban-Breite\, wie auch an Besucherinnen und Besucher
  aus dem Quartier. Alle sind herzlich eingeladen\, nach dem Gottesdienst
  im Restaurant gemeinsam Mittag zu essen\, Kostenpunkt ca. 20.–.\n
 \nWeitere Termine:\n \n\nKontakt: Theologin Katrin Schulze\n\nWeitere
  Infos: https://www.erk-bs.ch/veranstaltung/218207
SUMMARY:Gottesdienst im Alterszentrum Alban-Breite
PRIORITY:5
X-MICROSOFT-CDO-IMPORTANCE:1
CLASS:PUBLIC
END:VEVENT
END:VCALENDAR
