BEGIN:VCALENDAR
PRODID:-//kirchenweb.ch gmbh//veranstaltungsausgabe v2.0//DE
VERSION:2.0
METHOD:PUBLISH
BEGIN:VEVENT
DTSTART:20260425T220000Z
DTEND:20260426T120000Z
LOCATION:Treffpunkt Kirche Bettingen\, Brohegasse 3\, 4126 Bettingen
TRANSP:OPAQUE
SEQUENCE:0
UID:218249-veranstaltung@erk-bs.ch
DTSTAMP:20260202T160712Z
DESCRIPTION:Kontakt: Caroline Schachinger\n\nWeitere Infos:
  https://www.erk-bs.ch/veranstaltung/218249
SUMMARY:Gemeindeweekend in Todtmoos
PRIORITY:5
X-MICROSOFT-CDO-IMPORTANCE:1
CLASS:PUBLIC
END:VEVENT
END:VCALENDAR
