BEGIN:VCALENDAR
PRODID:-//kirchenweb.ch gmbh//veranstaltungsausgabe v2.0//DE
VERSION:2.0
METHOD:PUBLISH
BEGIN:VEVENT
DTSTART:20260513T083000Z
DTEND:20260513T093000Z
LOCATION:Tituskirche\, Im tiefen Boden 75\, 4059 Basel
TRANSP:OPAQUE
SEQUENCE:0
UID:218287-veranstaltung@erk-bs.ch
DTSTAMP:20251106T083550Z
DESCRIPTION:Im BibelCafé lesen und diskutieren wir biblische Texte in
  gemütlicher Atmosphäre. Dabei sind historische Informationen wichtig\,
  aber auch die Frage\, ob und wo vergleichbare Situationen und Erfahrungen
  in unserem Leben vorkommen. Wir verbinden geistliche Tiefe mit dem
  Respekt für unterschiedliche Zugangsweisen zur christlichen Tradition:
  Undogmatisch\, erfahrungsbezogen und wissenschaftlich fundiert.\nSeien
  Sie herzlich willkommen!\n\n\nKontakt: Harald Matern Schneider\n\nWeitere
  Infos: https://www.erk-bs.ch/veranstaltung/218287
SUMMARY:Bibelcafé
PRIORITY:5
X-MICROSOFT-CDO-IMPORTANCE:1
CLASS:PUBLIC
END:VEVENT
END:VCALENDAR
