BEGIN:VCALENDAR
PRODID:-//kirchenweb.ch gmbh//veranstaltungsausgabe v2.0//DE
VERSION:2.0
METHOD:PUBLISH
BEGIN:VEVENT
DTSTART:20260429T173000Z
DTEND:20260429T183000Z
LOCATION:Tituskirche\, Im tiefen Boden 75\, 4059 Basel
TRANSP:OPAQUE
SEQUENCE:0
UID:218309-veranstaltung@erk-bs.ch
DTSTAMP:20251106T091807Z
DESCRIPTION:Kontakt: Monika Widmer\n\nWeitere Infos:
  https://www.erk-bs.ch/veranstaltung/218309
SUMMARY:Abend Meditation
PRIORITY:5
X-MICROSOFT-CDO-IMPORTANCE:1
CLASS:PUBLIC
END:VEVENT
END:VCALENDAR
