BEGIN:VCALENDAR
PRODID:-//kirchenweb.ch gmbh//veranstaltungsausgabe v2.0//DE
VERSION:2.0
METHOD:PUBLISH
BEGIN:VEVENT
DTSTART:20260528T170000Z
DTEND:20260528T190000Z
LOCATION:Zwinglihaus\, Gundeldingerstrasse 370\, 4053 Basel
TRANSP:OPAQUE
SEQUENCE:0
UID:218413-veranstaltung@erk-bs.ch
DTSTAMP:20260416T063728Z
DESCRIPTION:In seinem Buch «Wenn nichts fehlt\, wo Gott fehlt» stellt
  der Theologe Jan Loffeld die These auf\, dass religiöse Indifferenz
  gegenüber dem Christentum die grösste Herausforderung für die Kirchen
  in Mitteleuropa darstelle. Säkularität zeige sich mehrheitlich weder
  als militanter Atheismus noch als Abwanderung hin zu anderen Religionen\,
  sondern als eine Art milde Gleichgültigkeit. Loffeld fragt aber auch
  nach den Chancen\, die dieser Entwicklung für einen religiösen
  Transformationsprozess innerhalb der Kirchen bedeuten könnte. Im
  Anschluss an einen Input ist der Raum offen für eine Publikumsdiskussion
  zu den Thesen Loffelds.\n\nMit: Andrea Bieler\, Prof Dr.\, Professorin
  für Praktische Theologie/Universität Basel\n\nEintritt: frei\, Kollekte
 \n\nIn Kooperation mit: Leonhards-Club\n\n\n\nKontakt: Regula Tanner\n
 \nWeitere Infos: https://www.erk-bs.ch/veranstaltung/218413
SUMMARY:Andrea Bieler: Wenn nichts fehlt\, wo Gott fehlt
PRIORITY:5
X-MICROSOFT-CDO-IMPORTANCE:1
CLASS:PUBLIC
END:VEVENT
END:VCALENDAR
