BEGIN:VCALENDAR
PRODID:-//kirchenweb.ch gmbh//veranstaltungsausgabe v2.0//DE
VERSION:2.0
METHOD:PUBLISH
BEGIN:VEVENT
DTSTART:20260512T073000Z
DTEND:20260512T083000Z
LOCATION:Gellertkirche\, Christoph Merian-Platz 5\, 4052 Basel
TRANSP:OPAQUE
SEQUENCE:0
UID:218516-veranstaltung@erk-bs.ch
DTSTAMP:20251113T100925Z
DESCRIPTION:Fröhlich singend durch den Tag. Das Spatzensingen ist dafür
  ein guter Anfang. \n0-3 Jahre alte Kinder sind eingeladen\, Fingerverse\,
  Tänzli und Lieder zu lernen\, wenn sie von einer Bezugsperson begleitet
  werden. \n\nDas Spatzensingen findet jeweils dienstags von 9.30 bis ca.
  10.30 Uhr in der Gellertkirche statt. Nach dem gemeinsamen Singen wird
  zusammen ein Znüni gegessen. Bitte bringt euer eigenes Znüni mit.
  Kaffee hat es vor Ort.\n\nKeine Voranmeldung nötig.\nLeitung: Nadia
  Joffe und Sonja Billingham \n\nWir freuen uns auf euch! \n\nKontakt: Lucy
  Wren\n\nWeitere Infos: https://www.erk-bs.ch/veranstaltung/218516
SUMMARY:Spatzensingen
PRIORITY:5
X-MICROSOFT-CDO-IMPORTANCE:1
CLASS:PUBLIC
END:VEVENT
END:VCALENDAR
