BEGIN:VCALENDAR
PRODID:-//kirchenweb.ch gmbh//veranstaltungsausgabe v2.0//DE
VERSION:2.0
METHOD:PUBLISH
BEGIN:VEVENT
DTSTART:20260621T170000Z
DTEND:20260621T180000Z
LOCATION:Dorfkirche\, Kirchplatz\, 4125 Riehen
TRANSP:OPAQUE
SEQUENCE:0
UID:218529-veranstaltung@erk-bs.ch
DTSTAMP:20260306T075901Z
DESCRIPTION:Kontakt: michael.rueedi@erk-bs.ch\n\nWeitere Infos:
  https://www.erk-bs.ch/veranstaltung/218529
SUMMARY:Taizé Abendgebet
PRIORITY:5
X-MICROSOFT-CDO-IMPORTANCE:1
CLASS:PUBLIC
END:VEVENT
END:VCALENDAR
