BEGIN:VCALENDAR
PRODID:-//kirchenweb.ch gmbh//veranstaltungsausgabe v2.0//DE
VERSION:2.0
METHOD:PUBLISH
BEGIN:VEVENT
DTSTART:20260607T184500Z
DTEND:20260607T191500Z
LOCATION:Gellertkirche\, Christoph Merian-Platz 5\, 4052 Basel
TRANSP:OPAQUE
SEQUENCE:0
UID:218716-veranstaltung@erk-bs.ch
DTSTAMP:20251119T124200Z
DESCRIPTION:Hörendes Gebet im Anschluss an den 19.07 Uhr-Gottesdienst:\n
 \nDu suchst Weisung\, Orientierung\, Ermutigung von Gott? – Wir nehmen
  uns Zeit mit dir zusammen auf seine Stimme zu hören. Was will Gott
  konkret in dein Leben sprechen?\n\nDiese Gebetszeit ist für viele
  Menschen hilfreich\, ermutigend und stärkend (1. Kor. 14. 3). Erfahrene
  Personen werden diese Zeit der Stille und des Hörens leiten und
  begleiten. Es handelt sich dabei nicht um ein seelsorgerliches Gespräch.
  \nDie Zeit ist auf maximal 15 Minuten beschränkt. Wir empfehlen eine
  Anmeldung via Anmeldeformular. Es können keine spontanen Plätze
  garantiert werden.\n\nAnmeldung via Anmeldeformular:
 \nhttps://www.gellertkirche.ch/angebote/gebet/hoerendes-gebet\n\nKontakt:
  Miriam und Lukas Weibel\n\nWeitere Infos:
  https://www.erk-bs.ch/veranstaltung/218716
SUMMARY:Hörendes Gebet - 7.07
PRIORITY:5
X-MICROSOFT-CDO-IMPORTANCE:1
CLASS:PUBLIC
END:VEVENT
END:VCALENDAR
