BEGIN:VCALENDAR
PRODID:-//kirchenweb.ch gmbh//veranstaltungsausgabe v2.0//DE
VERSION:2.0
METHOD:PUBLISH
BEGIN:VEVENT
DTSTART:20261203T180000Z
DTEND:20261203T191500Z
LOCATION:Dorfkirche\, Kirchplatz\, 4125 Riehen
TRANSP:OPAQUE
SEQUENCE:0
UID:218752-veranstaltung@erk-bs.ch
DTSTAMP:20251120T162920Z
DESCRIPTION:Kontakt: Pfarrerin Martina Holder\n\nWeitere Infos:
  https://www.erk-bs.ch/veranstaltung/218752
SUMMARY:Meditatives Tanzen
PRIORITY:5
X-MICROSOFT-CDO-IMPORTANCE:1
CLASS:PUBLIC
END:VEVENT
END:VCALENDAR
