BEGIN:VCALENDAR
PRODID:-//kirchenweb.ch gmbh//veranstaltungsausgabe v2.0//DE
VERSION:2.0
METHOD:PUBLISH
BEGIN:VEVENT
DTSTART:20261001T140000Z
DTEND:20261001T150000Z
LOCATION:Elisabethenheim\, Allmendstrasse 40\, 4058 Basel
TRANSP:OPAQUE
SEQUENCE:0
UID:218852-veranstaltung@erk-bs.ch
DTSTAMP:20251124T080526Z
DESCRIPTION:Kontakt: Sozialdiakonin Claudia Schulthess\n\nWeitere Infos:
  https://www.erk-bs.ch/veranstaltung/218852
SUMMARY:Gottesdienst
PRIORITY:5
X-MICROSOFT-CDO-IMPORTANCE:1
CLASS:PUBLIC
END:VEVENT
END:VCALENDAR
