BEGIN:VCALENDAR
PRODID:-//kirchenweb.ch gmbh//veranstaltungsausgabe v2.0//DE
VERSION:2.0
METHOD:PUBLISH
BEGIN:VEVENT
DTSTART:20261105T150000Z
DTEND:20261105T160000Z
LOCATION:Elisabethenheim\, Allmendstrasse 40\, 4058 Basel
TRANSP:OPAQUE
SEQUENCE:0
UID:218853-veranstaltung@erk-bs.ch
DTSTAMP:20251124T080804Z
DESCRIPTION:Totengedenkfeier\n\nKontakt: Sozialdiakonin Claudia Schulthess
 \n\nWeitere Infos: https://www.erk-bs.ch/veranstaltung/218853
SUMMARY:Gottesdienst
PRIORITY:5
X-MICROSOFT-CDO-IMPORTANCE:1
CLASS:PUBLIC
END:VEVENT
END:VCALENDAR
