BEGIN:VCALENDAR
PRODID:-//kirchenweb.ch gmbh//veranstaltungsausgabe v2.0//DE
VERSION:2.0
METHOD:PUBLISH
BEGIN:VEVENT
DTSTART:20261021T130000Z
DTEND:20261021T140000Z
LOCATION:Senevita Erlenmatt\, Erlenmattstrasse 7\, 4058 Basel
TRANSP:OPAQUE
SEQUENCE:0
UID:218868-veranstaltung@erk-bs.ch
DTSTAMP:20251124T105327Z
DESCRIPTION:Kontakt: Lukas Wenk\n\nWeitere Infos:
  https://www.erk-bs.ch/veranstaltung/218868
SUMMARY:Gottesdienst
PRIORITY:5
X-MICROSOFT-CDO-IMPORTANCE:1
CLASS:PUBLIC
END:VEVENT
END:VCALENDAR
