BEGIN:VCALENDAR
PRODID:-//kirchenweb.ch gmbh//veranstaltungsausgabe v2.0//DE
VERSION:2.0
METHOD:PUBLISH
BEGIN:VEVENT
DTSTART:20261104T140000Z
DTEND:20261104T150000Z
LOCATION:Senevita Erlenmatt\, Erlenmattstrasse 7\, 4058 Basel
TRANSP:OPAQUE
SEQUENCE:0
UID:218869-veranstaltung@erk-bs.ch
DTSTAMP:20251124T105440Z
DESCRIPTION:Ökumenische Gedenkfeier.\n\nKontakt: Lukas Wenk\n\nWeitere
  Infos: https://www.erk-bs.ch/veranstaltung/218869
SUMMARY:Gottesdienst
PRIORITY:5
X-MICROSOFT-CDO-IMPORTANCE:1
CLASS:PUBLIC
END:VEVENT
END:VCALENDAR
