BEGIN:VCALENDAR
PRODID:-//kirchenweb.ch gmbh//veranstaltungsausgabe v2.0//DE
VERSION:2.0
METHOD:PUBLISH
BEGIN:VEVENT
DTSTART:20260925T160000Z
DTEND:20260925T170000Z
LOCATION:Huus am Brunne El Ro'i\, Klingentalgraben 35\, 4057 Basel
TRANSP:OPAQUE
SEQUENCE:0
UID:218954-veranstaltung@erk-bs.ch
DTSTAMP:20251124T112249Z
DESCRIPTION:Abendgebet: Montags\, Mittwochs\, Freitags\, 18 Uhr\, Huus am
  Brunne El Ro'i\nAbendmahlsgottesdienst: Donnerstags\, 19 Uhr\, Huus am
  Brunne El Ro'i\n\nKontakt: eveline.michel@erk-bs.ch\n\nWeitere Infos:
  https://www.erk-bs.ch/veranstaltung/218954
SUMMARY:Abendgebet
PRIORITY:5
X-MICROSOFT-CDO-IMPORTANCE:1
CLASS:PUBLIC
END:VEVENT
END:VCALENDAR
