BEGIN:VCALENDAR
PRODID:-//kirchenweb.ch gmbh//veranstaltungsausgabe v2.0//DE
VERSION:2.0
METHOD:PUBLISH
BEGIN:VEVENT
DTSTART:20260423T170000Z
DTEND:20260423T180000Z
LOCATION:Huus am Brunne El Ro'i\, Klingentalgraben 35\, 4057 Basel
TRANSP:OPAQUE
SEQUENCE:0
UID:218996-veranstaltung@erk-bs.ch
DTSTAMP:20251124T112606Z
DESCRIPTION:Kontakt: esther.mueller-kb@erk-bs.ch\n\nWeitere Infos:
  https://www.erk-bs.ch/veranstaltung/218996
SUMMARY:Abendmahlsgottesdienst
PRIORITY:5
X-MICROSOFT-CDO-IMPORTANCE:1
CLASS:PUBLIC
END:VEVENT
END:VCALENDAR
